BEGIN:VCALENDAR
VERSION:2.0
PRODID:-//project/author//NONSGML v1.0//EN
CALSCALE:GREGORIAN
BEGIN:VEVENT
DTSTART:20191126T090000
LOCATION:SLG Akademie GmbH, Burgstädter Straße 20, 09232 Hartmannsdorf, Germany
DTEND:20191126T130000
DTSTAMP:20260419T185326
UID:999
SUMMARY:Konformitätsbewertung für Elektro- und Elektronikgeräte entsprechend der Richtlinie 2011/65/EU (RoHS) - Grundlagen
URL;VALUE=URI:
END:VEVENT
END:VCALENDAR