BEGIN:VCALENDAR
VERSION:2.0
PRODID:-//project/author//NONSGML v1.0//EN
CALSCALE:GREGORIAN
BEGIN:VEVENT
DTSTART:20190507T090000
LOCATION:SLG Akademie GmbH, Burgstädter Straße 20, 09232 Hartmannsdorf, Deutschland
DTEND:20190507T170000
DTSTAMP:20260420T180649
UID:975
SUMMARY:Entwicklung medizinischer Software nach EN IEC 62304:2015 und EN IEC 82304-1:2017 - Grundlagen
URL;VALUE=URI:
END:VEVENT
END:VCALENDAR