BEGIN:VCALENDAR
VERSION:2.0
PRODID:-//project/author//NONSGML v1.0//EN
CALSCALE:GREGORIAN
BEGIN:VEVENT
DTSTART:20190516T090000
LOCATION:SLG Akademie GmbH, Burgstädter Straße 20, 09232 Hartmannsdorf, Deutschland
DTEND:20190516T130000
DTSTAMP:20260420T215146
UID:973
SUMMARY:Ausgelagerte Prozesse in der Medizinprodukteindustrie
URL;VALUE=URI:
END:VEVENT
END:VCALENDAR