BEGIN:VCALENDAR
VERSION:2.0
PRODID:-//project/author//NONSGML v1.0//EN
CALSCALE:GREGORIAN
BEGIN:VEVENT
DTSTART:20190201T081500
LOCATION:biosaxony, Tatzberg 47, 01307 Dresden (Raum 1, 5. Etage), Germany
DTEND:20190201T100000
DTSTAMP:20260420T162338
UID:958
SUMMARY:21. biosaxony Business Breakfast der AG Recht & Steuern zum Thema „Chancen und Risiken in der betrieblichen Altersversorgung“
URL;VALUE=URI:
END:VEVENT
END:VCALENDAR