BEGIN:VCALENDAR
VERSION:2.0
PRODID:-//project/author//NONSGML v1.0//EN
CALSCALE:GREGORIAN
BEGIN:VEVENT
DTSTART:20190213T090000
LOCATION:SLG Akademie GmbH, Burgstädter Straße 20, 09232 Hartmannsdorf, Deutschland
DTEND:20190213T130000
DTSTAMP:20260422T212459
UID:943
SUMMARY:Von der Idee zum Patent
URL;VALUE=URI:
END:VEVENT
END:VCALENDAR