BEGIN:VCALENDAR
VERSION:2.0
PRODID:-//project/author//NONSGML v1.0//EN
CALSCALE:GREGORIAN
BEGIN:VEVENT
DTSTART:20190130T090000
LOCATION:SLG Akademie GmbH, Burgstädter Straße 20, 09232 Hartmannsdorf, Deutschland
DTEND:20190130T130000
DTSTAMP:20260420T135410
UID:939
SUMMARY:Validierung von Softwarewerkzeugen im Qualitätsmanagementsystem - ein wesentlicher Bestandteil der EN ISO 13485
URL;VALUE=URI:
END:VEVENT
END:VCALENDAR