BEGIN:VCALENDAR
VERSION:2.0
PRODID:-//project/author//NONSGML v1.0//EN
CALSCALE:GREGORIAN
BEGIN:VEVENT
DTSTART:20181204T160000
LOCATION:Staatliches Museum für Archäologie Chemnitz, Stefan-Heym-Platz 1, 09111 Chemnitz, Germany
DTEND:20181204T160000
DTSTAMP:20260420T201807
UID:930
SUMMARY:eureos-Forum: Perspektiven 2019
URL;VALUE=URI:
END:VEVENT
END:VCALENDAR