BEGIN:VCALENDAR
VERSION:2.0
PRODID:-//project/author//NONSGML v1.0//EN
CALSCALE:GREGORIAN
BEGIN:VEVENT
DTSTART:20190605T090000
LOCATION:QuoData GmbH Quality&Statistics, Prellerstraße 14, 01309 Dresden, Deutschland
DTEND:20190606T170000
DTSTAMP:20260421T123856
UID:927
SUMMARY:Workshop für In-House Methodenvalidierungsstudien mit InterVAL
URL;VALUE=URI:
END:VEVENT
END:VCALENDAR