BEGIN:VCALENDAR
VERSION:2.0
PRODID:-//project/author//NONSGML v1.0//EN
CALSCALE:GREGORIAN
BEGIN:VEVENT
DTSTART:20190925T103000
LOCATION:QuoData GmbH Quality&Statistics, Prellerstraße 14, 01309 Dresden, Deutschland
DTEND:20190927T150000
DTSTAMP:20260420T173311
UID:926
SUMMARY:Workshop for the evaluation of proficiency tests and method validation studies with PROLab
URL;VALUE=URI:
END:VEVENT
END:VCALENDAR