BEGIN:VCALENDAR
VERSION:2.0
PRODID:-//project/author//NONSGML v1.0//EN
CALSCALE:GREGORIAN
BEGIN:VEVENT
DTSTART:20181205T110000
LOCATION:Forschungsinstitut für Leder und Kunststoffbahnen (FILK) gGmbH, Meißner Ring 1-5, 09599 Freiberg, Deutschland
DTEND:20181205T154500
DTSTAMP:20260419T150050
UID:919
SUMMARY:Angewandte Kollagenforschung Vortragsreihe
URL;VALUE=URI:
END:VEVENT
END:VCALENDAR