BEGIN:VCALENDAR
VERSION:2.0
PRODID:-//project/author//NONSGML v1.0//EN
CALSCALE:GREGORIAN
BEGIN:VEVENT
DTSTART:20181127T090000
LOCATION:SLG Akademie GmbH, Burgstädter Str. 20, 09232 Hartmannsdorf, Germany
DTEND:20181127T130000
DTSTAMP:20260420T162346
UID:918
SUMMARY:Fachvortrag "Umwelt- und Materialanforderung bei der Produktherstellung"
URL;VALUE=URI:
END:VEVENT
END:VCALENDAR