BEGIN:VCALENDAR
VERSION:2.0
PRODID:-//project/author//NONSGML v1.0//EN
CALSCALE:GREGORIAN
BEGIN:VEVENT
DTSTART:20181015T120000
LOCATION:DECHEMA- Gesellschaft für Chemische Technik und Biotechnologie e.V., Theodor-Heuss-Allee 25 D, 60486 Frankfurt am Main, Deutschland
DTEND:20181016T130000
DTSTAMP:20260419T221147
UID:909
SUMMARY:ELIXIR Innovation and SME Forum on Data Driven Innovation in Industrial Biotechnology
URL;VALUE=URI:
END:VEVENT
END:VCALENDAR