BEGIN:VCALENDAR
VERSION:2.0
PRODID:-//project/author//NONSGML v1.0//EN
CALSCALE:GREGORIAN
BEGIN:VEVENT
DTSTART:20181128T090000
LOCATION:DECHEMA-Forschungsinstitut, Theodor-Heuss-Allee 25, 60486 Frankfurt am Main, Germany
DTEND:20181128T170000
DTSTAMP:20260422T141639
UID:895
SUMMARY:Praxisleitfaden für Projektleiter und Beauftragte für Biologische Sicherheit
URL;VALUE=URI:
END:VEVENT
END:VCALENDAR