BEGIN:VCALENDAR
VERSION:2.0
PRODID:-//project/author//NONSGML v1.0//EN
CALSCALE:GREGORIAN
BEGIN:VEVENT
DTSTART:20181105T000000
LOCATION:Bella Center Copenhagen, Center Blvd 5, 2300 Copenhagen, Denmark
DTEND:20181107T000000
DTSTAMP:20260422T145645
UID:891
SUMMARY:BIO-Europe® 2018 - 24th Annual International Partnering Conference
URL;VALUE=URI:
END:VEVENT
END:VCALENDAR