BEGIN:VCALENDAR
VERSION:2.0
PRODID:-//project/author//NONSGML v1.0//EN
CALSCALE:GREGORIAN
BEGIN:VEVENT
DTSTART:20180712T150000
LOCATION:BIO CITY LEIPZIG, Deutscher Platz 5c, 04103 Leipzig, Germany
DTEND:20180712T150000
DTSTAMP:20260420T174724
UID:882
SUMMARY:ABSAGE - Präsentation des Deutschen EY Biotechnolgie-Reports 2018
URL;VALUE=URI:
END:VEVENT
END:VCALENDAR