BEGIN:VCALENDAR
VERSION:2.0
PRODID:-//project/author//NONSGML v1.0//EN
CALSCALE:GREGORIAN
BEGIN:VEVENT
DTSTART:20181123T000000
LOCATION:Sheraton Arabellapark Hotel, Arabellastr. 5, 81925 München, Germany
DTEND:20181123T000000
DTSTAMP:20260419T174408
UID:881
SUMMARY:Die klinische Prüfung im Spannungsfeld von Real World Data, Social Media und Datenschutz –  Quo vadis?
URL;VALUE=URI:
END:VEVENT
END:VCALENDAR