BEGIN:VCALENDAR
VERSION:2.0
PRODID:-//project/author//NONSGML v1.0//EN
CALSCALE:GREGORIAN
BEGIN:VEVENT
DTSTART:20180621T100000
LOCATION:Ludwig-Erhard-Haus, Fasanenstraße 85, 10623 Berlin, Deutschland
DTEND:20180621T183000
DTSTAMP:20260422T145637
UID:877
SUMMARY:Klinik sucht Diagnostik: Biomarker-Trends & Perspektiven für die personalisierte Medizin | Forum Companion Diagnostics
URL;VALUE=URI:
END:VEVENT
END:VCALENDAR