BEGIN:VCALENDAR
VERSION:2.0
PRODID:-//project/author//NONSGML v1.0//EN
CALSCALE:GREGORIAN
BEGIN:VEVENT
DTSTART:20180629T090000
LOCATION:BIO CITY Leipzig, Deutscher Platz 5c, 04103 Leipzig, Germany
DTEND:20180629T170000
DTSTAMP:20260419T144110
UID:871
SUMMARY:Workshop: Mitarbeiter erfolgreich führen und motivieren
URL;VALUE=URI:
END:VEVENT
END:VCALENDAR