BEGIN:VCALENDAR
VERSION:2.0
PRODID:-//project/author//NONSGML v1.0//EN
CALSCALE:GREGORIAN
BEGIN:VEVENT
DTSTART:20180517T090000
LOCATION:KUBUS des Helmholtz-Zentrums für Umweltforschung, Permoser Straße 15, 04318 Leipzig, Germany
DTEND:20180517T163000
DTSTAMP:20260421T113032
UID:863
SUMMARY:Workshop „Innovationsplattform Anaerobe Prozesse - AD+"
URL;VALUE=URI:
END:VEVENT
END:VCALENDAR