BEGIN:VCALENDAR
VERSION:2.0
PRODID:-//project/author//NONSGML v1.0//EN
CALSCALE:GREGORIAN
BEGIN:VEVENT
DTSTART:20180523T000000
LOCATION:BTU Cottbus-Senftenberg Campus Senftenberg Zentrales Hörsaalgebäude, Universitätsplatz 1, 01968 Senftenberg, Germany
DTEND:20180525T000000
DTSTAMP:20260420T133527
UID:856
SUMMARY:International Biotech Innovation Days (IBID)
URL;VALUE=URI:
END:VEVENT
END:VCALENDAR