BEGIN:VCALENDAR
VERSION:2.0
PRODID:-//project/author//NONSGML v1.0//EN
CALSCALE:GREGORIAN
BEGIN:VEVENT
DTSTART:20180424T183000
LOCATION:Vertretung des Freistaates Sachsen beim Bund, Brüderstraße 11/12, Germany
DTEND:20180424T210000
DTSTAMP:20260422T141639
UID:853
SUMMARY:Die Industrie im Zeitalter der Digitalisierung - Sächsische Perspektiven in Deutschland und in Europa
URL;VALUE=URI:
END:VEVENT
END:VCALENDAR