BEGIN:VCALENDAR
VERSION:2.0
PRODID:-//project/author//NONSGML v1.0//EN
CALSCALE:GREGORIAN
BEGIN:VEVENT
DTSTART:20181017T090000
LOCATION:Hannover Congress Centrum, Theodor-Heuss-Platz 1-3, 30175 Hannover, Germany
DTEND:20181018T160000
DTSTAMP:20260420T173215
UID:847
SUMMARY:European Business Development Confernece
URL;VALUE=URI:
END:VEVENT
END:VCALENDAR