BEGIN:VCALENDAR
VERSION:2.0
PRODID:-//project/author//NONSGML v1.0//EN
CALSCALE:GREGORIAN
BEGIN:VEVENT
DTSTART:20180424T173000
LOCATION:DAS LEBENDIGE HAUS, Kleine Brüdergasse 5, 01067 Dresden, Germany
DTEND:20180424T200000
DTSTAMP:20260420T184310
UID:845
SUMMARY:5. BIOSAXONY MEETS POLITICS „Medizintechnik in Sachsen – Status quo und Herausforderungen der Zukunft“
URL;VALUE=URI:
END:VEVENT
END:VCALENDAR