BEGIN:VCALENDAR
VERSION:2.0
PRODID:-//project/author//NONSGML v1.0//EN
CALSCALE:GREGORIAN
BEGIN:VEVENT
DTSTART:20180418T140000
LOCATION:Hörsaal der Dresden International University, Freiberger Straße 37, 01067 Dresden, Germany
DTEND:20180418T180000
DTSTAMP:20260420T142810
UID:837
SUMMARY:Seminar "Neue EU-Datenschutzgrundverordnung (DSGVO)"
URL;VALUE=URI:
END:VEVENT
END:VCALENDAR