BEGIN:VCALENDAR
VERSION:2.0
PRODID:-//project/author//NONSGML v1.0//EN
CALSCALE:GREGORIAN
BEGIN:VEVENT
DTSTART:20180404T090000
LOCATION:Research Academy Leipzig, Wächterstr. 30, 04107 Leipzig, Deutschland
DTEND:20180405T173000
DTSTAMP:20260420T215134
UID:831
SUMMARY:Sicherheit in der Gentechnik – Biologische Sicherheit
URL;VALUE=URI:
END:VEVENT
END:VCALENDAR