BEGIN:VCALENDAR
VERSION:2.0
PRODID:-//project/author//NONSGML v1.0//EN
CALSCALE:GREGORIAN
BEGIN:VEVENT
DTSTART:20180314T093000
LOCATION:Magnus-Haus, Am Kupfergraben 7, 10117 Berlin-Mitte, Deutschland
DTEND:20180314T150000
DTSTAMP:20260422T115103
UID:830
SUMMARY:Markterschließung IVD China - Anforderungen an das Qualitätsmanagement und die Zulassung
URL;VALUE=URI:
END:VEVENT
END:VCALENDAR