BEGIN:VCALENDAR
VERSION:2.0
PRODID:-//project/author//NONSGML v1.0//EN
CALSCALE:GREGORIAN
BEGIN:VEVENT
DTSTART:20180417T130000
LOCATION:GebäudeEnsemble Deutsche Werkstätten Hellerau, Moritzburger Weg 67, 01109 Dresden, Germany
DTEND:20180417T183000
DTSTAMP:20260420T162244
UID:829
SUMMARY:9. Innovationswerkstatt Wirtschaft: Wachstum. Das nächste Level.
URL;VALUE=URI:
END:VEVENT
END:VCALENDAR