BEGIN:VCALENDAR
VERSION:2.0
PRODID:-//project/author//NONSGML v1.0//EN
CALSCALE:GREGORIAN
BEGIN:VEVENT
DTSTART:20180411T190000
LOCATION:Kupfersaal Leipzig, Kupfergasse 2, 04109 Leipzig, Germany
DTEND:20180411T230000
DTSTAMP:20260420T162411
UID:825
SUMMARY:Jack Pop’s Circus of Science
URL;VALUE=URI:
END:VEVENT
END:VCALENDAR