BEGIN:VCALENDAR
VERSION:2.0
PRODID:-//project/author//NONSGML v1.0//EN
CALSCALE:GREGORIAN
BEGIN:VEVENT
DTSTART:20181112T090000
LOCATION:Messe Düsseldorf, Stockumer Kirchstraße 61, 40474 Düsseldorf, Germany
DTEND:20181115T180000
DTSTAMP:20260421T123532
UID:819
SUMMARY:MEDICA 2018 - Weltforum der Medizin
URL;VALUE=URI:
END:VEVENT
END:VCALENDAR