BEGIN:VCALENDAR
VERSION:2.0
PRODID:-//project/author//NONSGML v1.0//EN
CALSCALE:GREGORIAN
BEGIN:VEVENT
DTSTART:20180612T150000
LOCATION:Sächsische Bildungsgesellschaft  für Umweltschutz und Chemieberufe Dresden mbH, Gutenbergstraße 6, 01307 Dresden, Deutschland
DTEND:20180612T163000
DTSTAMP:20260422T103516
UID:818
SUMMARY:Kick-off: Technical English on the job
URL;VALUE=URI:
END:VEVENT
END:VCALENDAR