BEGIN:VCALENDAR
VERSION:2.0
PRODID:-//project/author//NONSGML v1.0//EN
CALSCALE:GREGORIAN
BEGIN:VEVENT
DTSTART:20180409T090000
LOCATION:Sächsische Bildungsgesellschaft  für Umweltschutz und Chemieberufe Dresden mbH, Gutenbergstraße 6, 01307 Dresden, Deutschland
DTEND:20180411T160000
DTSTAMP:20260421T123528
UID:817
SUMMARY:Workshop: Englisch für die Arbeit im Labor
URL;VALUE=URI:
END:VEVENT
END:VCALENDAR