BEGIN:VCALENDAR
VERSION:2.0
PRODID:-//project/author//NONSGML v1.0//EN
CALSCALE:GREGORIAN
BEGIN:VEVENT
DTSTART:20180514T080000
LOCATION:Sächsische Bildungsgesellschaft  für Umweltschutz und Chemieberufe Dresden mbH, Gutenbergstraße 6, 01307 Dresden, Deutschland
DTEND:20180518T160000
DTSTAMP:20260420T151137
UID:814
SUMMARY:Aufbaukurs: Mikrobiologie II
URL;VALUE=URI:
END:VEVENT
END:VCALENDAR