BEGIN:VCALENDAR
VERSION:2.0
PRODID:-//project/author//NONSGML v1.0//EN
CALSCALE:GREGORIAN
BEGIN:VEVENT
DTSTART:20180507T090000
LOCATION:Sächsische Bildungsgesellschaft  für Umweltschutz und Chemieberufe Dresden mbH, Gutenbergstraße 6, 01307 Dresden, Deutschland
DTEND:20180509T163000
DTSTAMP:20260422T145715
UID:809
SUMMARY:Fortbildung: Chromatographische Verfahren – Gaschromatographie
URL;VALUE=URI:
END:VEVENT
END:VCALENDAR