BEGIN:VCALENDAR
VERSION:2.0
PRODID:-//project/author//NONSGML v1.0//EN
CALSCALE:GREGORIAN
BEGIN:VEVENT
DTSTART:20180305T070000
LOCATION:Sächsische Bildungsgesellschaft  für Umweltschutz und Chemieberufe Dresden mbH, Gutenbergstraße 6, 01307 Dresden, Deutschland
DTEND:20180307T140000
DTSTAMP:20260422T115228
UID:808
SUMMARY:Grundlagenkurs: Herstellen und Verdünnen von Lösungen
URL;VALUE=URI:
END:VEVENT
END:VCALENDAR