BEGIN:VCALENDAR
VERSION:2.0
PRODID:-//project/author//NONSGML v1.0//EN
CALSCALE:GREGORIAN
BEGIN:VEVENT
DTSTART:20180321T093000
LOCATION:Würzburg, Germany
DTEND:20180321T153000
DTSTAMP:20260421T112956
UID:800
SUMMARY:Informationsveranstaltung zur Abgabe von Zytostatika durch Krankenhausapotheken bei der ambulanten Behandlung
URL;VALUE=URI:
END:VEVENT
END:VCALENDAR