BEGIN:VCALENDAR
VERSION:2.0
PRODID:-//project/author//NONSGML v1.0//EN
CALSCALE:GREGORIAN
BEGIN:VEVENT
DTSTART:20180202T083000
LOCATION:HYPERION Hotel Dresden am Schloss, Schlossstrasse 16, 01067 Dresden, Germany
DTEND:20180202T160000
DTSTAMP:20260420T133537
UID:796
SUMMARY:4. Silicon Saxony Projektmanagement-Tag 
URL;VALUE=URI:
END:VEVENT
END:VCALENDAR