BEGIN:VCALENDAR
VERSION:2.0
PRODID:-//project/author//NONSGML v1.0//EN
CALSCALE:GREGORIAN
BEGIN:VEVENT
DTSTART:20180313T080000
LOCATION:Bio-Seehotel Zeulenroda, Bauerfeindallee 1, 07937 Zeulenroda-Triebes, Germany
DTEND:20180315T190000
DTSTAMP:20260422T115742
UID:749
SUMMARY:13. Thementage Grenz- und Oberflächentechnik und 11. Thüringer Biomaterial-Kolloquium in Zeulenroda
URL;VALUE=URI:
END:VEVENT
END:VCALENDAR