BEGIN:VCALENDAR
VERSION:2.0
PRODID:-//project/author//NONSGML v1.0//EN
CALSCALE:GREGORIAN
BEGIN:VEVENT
DTSTART:20180321T090000
LOCATION:Kongresshalle am Zoo Leipzig, Pfaffendorfer Str. 31, 04105 Leipzig, Deutschland
DTEND:20180323T180000
DTSTAMP:20260423T104024
UID:576
SUMMARY:XPOMET© CONVENTION 2018 - Die Convention für Innovation und Hightech in der Medizin
URL;VALUE=URI:
END:VEVENT
END:VCALENDAR