BEGIN:VCALENDAR
VERSION:2.0
PRODID:-//project/author//NONSGML v1.0//EN
CALSCALE:GREGORIAN
BEGIN:VEVENT
DTSTART:20250911T100000
LOCATION:BIO CITY LEIPZIG, Deutscher Platz 5, 04103 Leipzig, Deutschland
DTEND:20250911T140000
DTSTAMP:20260422T115218
UID:2154
SUMMARY:French Healthcare Booster
URL;VALUE=URI:
END:VEVENT
END:VCALENDAR