BEGIN:VCALENDAR
VERSION:2.0
PRODID:-//project/author//NONSGML v1.0//EN
CALSCALE:GREGORIAN
BEGIN:VEVENT
DTSTART:20251126T150000
LOCATION:online, 01187 Dresden, Deutschland
DTEND:20251126T160000
DTSTAMP:20260422T115238
UID:2149
SUMMARY:Webinar: KI trifft Robotik – Lernbasierte adaptive Regelung
URL;VALUE=URI:
END:VEVENT
END:VCALENDAR