BEGIN:VCALENDAR
VERSION:2.0
PRODID:-//project/author//NONSGML v1.0//EN
CALSCALE:GREGORIAN
BEGIN:VEVENT
DTSTART:20250827T143000
LOCATION:Bio City Leipzig, Deutscher Platz 5c, 04103 Leipzig, Deutschland
DTEND:20250827T210000
DTSTAMP:20260423T104020
UID:2146
SUMMARY:biosaxony e.V. Mitgliederversammlung & leap:up Sommerfest
URL;VALUE=URI:
END:VEVENT
END:VCALENDAR