BEGIN:VCALENDAR
VERSION:2.0
PRODID:-//project/author//NONSGML v1.0//EN
CALSCALE:GREGORIAN
BEGIN:VEVENT
DTSTART:20250904T100000
LOCATION:BIO CITY LEIPZIG, Deutscher Platz 5, 04103 Leipzig, Deutschland
DTEND:20250904T200000
DTSTAMP:20260422T212653
UID:2141
SUMMARY:futureSAX - INNOVATIONSFORUM 2025
URL;VALUE=URI:
END:VEVENT
END:VCALENDAR