BEGIN:VCALENDAR
VERSION:2.0
PRODID:-//project/author//NONSGML v1.0//EN
CALSCALE:GREGORIAN
BEGIN:VEVENT
DTSTART:20250528T173000
LOCATION:white ip | Patent & Legal, Königstraße 7, 01097 Dresden, Deutschland
DTEND:20250528T220000
DTSTAMP:20260420T134245
UID:2131
SUMMARY:Ihr Unternehmen - Ihre Werte 
URL;VALUE=URI:
END:VEVENT
END:VCALENDAR