BEGIN:VCALENDAR
VERSION:2.0
PRODID:-//project/author//NONSGML v1.0//EN
CALSCALE:GREGORIAN
BEGIN:VEVENT
DTSTART:20250520T083000
LOCATION:Bildungszentrum der Handwerkskammer Dresden, Am Lagerplatz 7, 01099 Dresden, Deutschland
DTEND:20250520T130000
DTSTAMP:20260421T123353
UID:2118
SUMMARY:Battke Frühstück
URL;VALUE=URI:
END:VEVENT
END:VCALENDAR