BEGIN:VCALENDAR
VERSION:2.0
PRODID:-//project/author//NONSGML v1.0//EN
CALSCALE:GREGORIAN
BEGIN:VEVENT
DTSTART:20250515T083000
LOCATION:Science Congress Center Munich, Walter-von-Dyck-Straße 10, 85748 Garching, Germany
DTEND:20250516T180000
DTSTAMP:20260422T115802
UID:2117
SUMMARY:4th ICPO Forum for Theranositcs in Precision Oncology
URL;VALUE=URI:
END:VEVENT
END:VCALENDAR