BEGIN:VCALENDAR
VERSION:2.0
PRODID:-//project/author//NONSGML v1.0//EN
CALSCALE:GREGORIAN
BEGIN:VEVENT
DTSTART:20250620T180000
LOCATION:BIO CITY Leipzig, Deutscher Platz 5, 04103 Leipzig, Deutschland
DTEND:20250620T232800
DTSTAMP:20260423T102435
UID:2116
SUMMARY:Lange Nacht der Wissenschaften
URL;VALUE=URI:
END:VEVENT
END:VCALENDAR