BEGIN:VCALENDAR
VERSION:2.0
PRODID:-//project/author//NONSGML v1.0//EN
CALSCALE:GREGORIAN
BEGIN:VEVENT
DTSTART:20250515T140000
LOCATION:Universität Leipzig (Paulinum - Aula und Universitätskirche St. Pauli), Neues Augusteum, 04109 Leipzig, Deutschland
DTEND:20250515T170000
DTSTAMP:20260422T115626
UID:2111
SUMMARY:Wisskomm-Symposium 2025
URL;VALUE=URI:
END:VEVENT
END:VCALENDAR