BEGIN:VCALENDAR
VERSION:2.0
PRODID:-//project/author//NONSGML v1.0//EN
CALSCALE:GREGORIAN
BEGIN:VEVENT
DTSTART:20250408T080000
LOCATION:German Hygiene Museum, Lingnerpl. 1, 01069 Dresden, Germany
DTEND:20250410T210000
DTSTAMP:20260420T185259
UID:2108
SUMMARY:Dresden Nexus Conference
URL;VALUE=URI:
END:VEVENT
END:VCALENDAR