BEGIN:VCALENDAR
VERSION:2.0
PRODID:-//project/author//NONSGML v1.0//EN
CALSCALE:GREGORIAN
BEGIN:VEVENT
DTSTART:20251111T084500
LOCATION:Online, Deutschland
DTEND:20251111T160000
DTSTAMP:20260420T142826
UID:2106
SUMMARY:Hands-on-Training Artificial Intelligence (AI) in Medical Devices (Online)
URL;VALUE=URI:
END:VEVENT
END:VCALENDAR