BEGIN:VCALENDAR
VERSION:2.0
PRODID:-//project/author//NONSGML v1.0//EN
CALSCALE:GREGORIAN
BEGIN:VEVENT
DTSTART:20250408T150000
LOCATION:Fraunhofer IIS, Institutsteil Entwicklung Adaptiver Systeme EAS, Münchner Straße 16, 01187 Dresden, Deutschland
DTEND:20250408T183000
DTSTAMP:20260420T145003
UID:2094
SUMMARY:Community Forum reAIlize am 8. April 2025
URL;VALUE=URI:
END:VEVENT
END:VCALENDAR